BEGIN:VCALENDAR
VERSION:2.0
PRODID:-//ResQ  - people saving people - ECPv6.15.20//NONSGML v1.0//EN
CALSCALE:GREGORIAN
METHOD:PUBLISH
X-WR-CALNAME:ResQ  - people saving people
X-ORIGINAL-URL:https://resq.it
X-WR-CALDESC:Eventi per ResQ  - people saving people
REFRESH-INTERVAL;VALUE=DURATION:PT1H
X-Robots-Tag:noindex
X-PUBLISHED-TTL:PT1H
BEGIN:VTIMEZONE
TZID:Europe/Rome
BEGIN:DAYLIGHT
TZOFFSETFROM:+0100
TZOFFSETTO:+0200
TZNAME:CEST
DTSTART:20250330T010000
END:DAYLIGHT
BEGIN:STANDARD
TZOFFSETFROM:+0200
TZOFFSETTO:+0100
TZNAME:CET
DTSTART:20251026T010000
END:STANDARD
BEGIN:DAYLIGHT
TZOFFSETFROM:+0100
TZOFFSETTO:+0200
TZNAME:CEST
DTSTART:20260329T010000
END:DAYLIGHT
BEGIN:STANDARD
TZOFFSETFROM:+0200
TZOFFSETTO:+0100
TZNAME:CET
DTSTART:20261025T010000
END:STANDARD
BEGIN:DAYLIGHT
TZOFFSETFROM:+0100
TZOFFSETTO:+0200
TZNAME:CEST
DTSTART:20270328T010000
END:DAYLIGHT
BEGIN:STANDARD
TZOFFSETFROM:+0200
TZOFFSETTO:+0100
TZNAME:CET
DTSTART:20271031T010000
END:STANDARD
END:VTIMEZONE
BEGIN:VEVENT
DTSTART;VALUE=DATE:20260407
DTEND;VALUE=DATE:20260430
DTSTAMP:20260423T110331
CREATED:20260402T093149Z
LAST-MODIFIED:20260402T093149Z
UID:5322-1775520000-1777507199@resq.it
SUMMARY:PADERNO DUGNANO / Oltre il confine. Cinema Saving People 2
DESCRIPTION:
URL:https://resq.it/evento/paderno-dugnano-oltre-il-confine-cinema-saving-people-2/
ATTACH;FMTTYPE=image/jpeg:https://resq.it/wp-content/uploads/2026/04/RASSEGNA-METROPOLIS-RESQ_A5-1-1_page-0001.jpg
END:VEVENT
BEGIN:VEVENT
DTSTART;TZID=Europe/Rome:20260424T193000
DTEND;TZID=Europe/Rome:20260424T230000
DTSTAMP:20260423T110331
CREATED:20260317T141018Z
LAST-MODIFIED:20260317T141018Z
UID:5295-1777059000-1777071600@resq.it
SUMMARY:VALMADRERA / The Ashes of Moria
DESCRIPTION:
URL:https://resq.it/evento/valmadrera-the-ashes-of-moria/
ATTACH;FMTTYPE=image/jpeg:https://resq.it/wp-content/uploads/2026/03/valmadrera.jpeg
END:VEVENT
END:VCALENDAR